BEGIN:VCALENDAR
PRODID:-//Hudson McHughCalendar
VERSION:2.0
METHOD:PUBLISH
BEGIN:VEVENT
URL:http://hmch.com.au/562/10-45-macdonald-street-erskineville
ORGANIZER:info@hmch.com.au
DTSTART:20190302T093000
DTEND:20190302T100000
LOCATION:10/45 MacDonald Street,  Erskineville
DTSTAMP:20190227T075300
SUMMARY:Hudson McHugh Open House - 10/45 MacDonald Street,  Erskineville
DESCRIPTION:Open House: 10/45 MacDonald Street,  Erskineville 
Saturday 09:30-10:00 AM
Click the link for full listing information:http://hmch.com.au/562/10-45-macdonald-street-erskineville
CLASS:PUBLIC
BEGIN:VALARM
TRIGGER:-PT1D
ACTION:DISPLAY
DESCRIPTION:Reminder
END:VALARM
END:VEVENT
END:VCALENDAR