BEGIN:VCALENDAR
PRODID:-//Hudson McHughCalendar
VERSION:2.0
METHOD:PUBLISH
BEGIN:VEVENT
URL:http://hmch.com.au/564/72-weston-street-dulwich-hill
ORGANIZER:info@hmch.com.au
DTSTART:20190302T110000
DTEND:20190302T113000
LOCATION:72 Weston Street,  Dulwich Hill
DTSTAMP:20190227T075252
SUMMARY:Hudson McHugh Open House - 72 Weston Street,  Dulwich Hill
DESCRIPTION:Open House: 72 Weston Street,  Dulwich Hill 
Saturday 11:00-11:30 AM
Click the link for full listing information:http://hmch.com.au/564/72-weston-street-dulwich-hill
CLASS:PUBLIC
BEGIN:VALARM
TRIGGER:-PT1D
ACTION:DISPLAY
DESCRIPTION:Reminder
END:VALARM
END:VEVENT
END:VCALENDAR