BEGIN:VCALENDAR
PRODID:-//Hudson McHughCalendar
VERSION:2.0
METHOD:PUBLISH
BEGIN:VEVENT
URL:http://hmch.com.au/555/4-13-moore-lane-access-via-13a-ilka-st-lilyfield
ORGANIZER:info@hmch.com.au
DTSTART:20190227T180000
DTEND:20190227T183000
LOCATION:4/13 Moore Lane (Access Via 13a Ilka St),  Lilyfield
DTSTAMP:20190227T075350
SUMMARY:Hudson McHugh Open House - 4/13 Moore Lane (Access Via 13a Ilka St),  Lilyfield
DESCRIPTION:Open House: 4/13 Moore Lane (Access Via 13a Ilka St),  Lilyfield 
Wednesday 06:00-06:30 PM
Click the link for full listing information:http://hmch.com.au/555/4-13-moore-lane-access-via-13a-ilka-st-lilyfield
CLASS:PUBLIC
BEGIN:VALARM
TRIGGER:-PT1D
ACTION:DISPLAY
DESCRIPTION:Reminder
END:VALARM
END:VEVENT
END:VCALENDAR