BEGIN:VCALENDAR
PRODID:-//Hudson McHughCalendar
VERSION:2.0
METHOD:PUBLISH
BEGIN:VEVENT
URL:http://hmch.com.au/561/62-hill-street-leichhardt
ORGANIZER:info@hmch.com.au
DTSTART:20190302T103000
DTEND:20190302T110000
LOCATION:62 Hill Street,  Leichhardt
DTSTAMP:20190227T075313
SUMMARY:Hudson McHugh Open House - 62 Hill Street,  Leichhardt
DESCRIPTION:Open House: 62 Hill Street,  Leichhardt 
Saturday 10:30-11:00 AM
Click the link for full listing information:http://hmch.com.au/561/62-hill-street-leichhardt
CLASS:PUBLIC
BEGIN:VALARM
TRIGGER:-PT1D
ACTION:DISPLAY
DESCRIPTION:Reminder
END:VALARM
END:VEVENT
END:VCALENDAR