BEGIN:VCALENDAR
PRODID:-//Hudson McHughCalendar
VERSION:2.0
METHOD:PUBLISH
BEGIN:VEVENT
URL:http://hmch.com.au/558/262-catherine-street-leichhardt
ORGANIZER:info@hmch.com.au
DTSTART:20190302T140000
DTEND:20190302T143000
LOCATION:262 Catherine Street,  Leichhardt
DTSTAMP:20190227T075333
SUMMARY:Hudson McHugh Open House - 262 Catherine Street,  Leichhardt
DESCRIPTION:Open House: 262 Catherine Street,  Leichhardt 
Saturday 02:00-02:30 PM
Click the link for full listing information:http://hmch.com.au/558/262-catherine-street-leichhardt
CLASS:PUBLIC
BEGIN:VALARM
TRIGGER:-PT1D
ACTION:DISPLAY
DESCRIPTION:Reminder
END:VALARM
END:VEVENT
END:VCALENDAR