BEGIN:VCALENDAR
PRODID:-//Hudson McHughCalendar
VERSION:2.0
METHOD:PUBLISH
BEGIN:VEVENT
URL:http://hmch.com.au/545/2-121-foster-street-leichhardt
ORGANIZER:info@hmch.com.au
DTSTART:20190227T171500
DTEND:20190227T173000
LOCATION:2/121 Foster Street,  Leichhardt
DTSTAMP:20190227T075833
SUMMARY:Hudson McHugh Open House - 2/121 Foster Street,  Leichhardt
DESCRIPTION:Open House: 2/121 Foster Street,  Leichhardt 
Wednesday 05:15-05:30 PM
Click the link for full listing information:http://hmch.com.au/545/2-121-foster-street-leichhardt
CLASS:PUBLIC
BEGIN:VALARM
TRIGGER:-PT1D
ACTION:DISPLAY
DESCRIPTION:Reminder
END:VALARM
END:VEVENT
END:VCALENDAR