BEGIN:VCALENDAR
PRODID:-//Hudson McHughCalendar
VERSION:2.0
METHOD:PUBLISH
BEGIN:VEVENT
URL:http://hmch.com.au/563/9-5-alfred-street-rozelle
ORGANIZER:info@hmch.com.au
DTSTART:20190227T161500
DTEND:20190227T163000
LOCATION:9/5 Alfred Street,  Rozelle
DTSTAMP:20190227T075823
SUMMARY:Hudson McHugh Open House - 9/5 Alfred Street,  Rozelle
DESCRIPTION:Open House: 9/5 Alfred Street,  Rozelle 
Wednesday 04:15-04:30 PM
Click the link for full listing information:http://hmch.com.au/563/9-5-alfred-street-rozelle
CLASS:PUBLIC
BEGIN:VALARM
TRIGGER:-PT1D
ACTION:DISPLAY
DESCRIPTION:Reminder
END:VALARM
END:VEVENT
END:VCALENDAR