BEGIN:VCALENDAR
PRODID:-//Hudson McHughCalendar
VERSION:2.0
METHOD:PUBLISH
BEGIN:VEVENT
URL:http://hmch.com.au/550/45-greenbank-street-marrickville
ORGANIZER:info@hmch.com.au
DTSTART:20190227T130000
DTEND:20190227T133000
LOCATION:45 Greenbank Street,  Marrickville
DTSTAMP:20190227T075400
SUMMARY:Hudson McHugh Open House - 45 Greenbank Street,  Marrickville
DESCRIPTION:Open House: 45 Greenbank Street,  Marrickville 
Wednesday 01:00-01:30 PM
Click the link for full listing information:http://hmch.com.au/550/45-greenbank-street-marrickville
CLASS:PUBLIC
BEGIN:VALARM
TRIGGER:-PT1D
ACTION:DISPLAY
DESCRIPTION:Reminder
END:VALARM
END:VEVENT
END:VCALENDAR