BEGIN:VCALENDAR
PRODID:-//Hudson McHughCalendar
VERSION:2.0
METHOD:PUBLISH
BEGIN:VEVENT
URL:http://hmch.com.au/560/81-carlisle-street-leichhardt
ORGANIZER:info@hmch.com.au
DTSTART:20190227T131500
DTEND:20190227T134500
LOCATION:81 Carlisle Street,  Leichhardt
DTSTAMP:20190227T075321
SUMMARY:Hudson McHugh Open House - 81 Carlisle Street,  Leichhardt
DESCRIPTION:Open House: 81 Carlisle Street,  Leichhardt 
Wednesday 01:15-01:45 PM
Click the link for full listing information:http://hmch.com.au/560/81-carlisle-street-leichhardt
CLASS:PUBLIC
BEGIN:VALARM
TRIGGER:-PT1D
ACTION:DISPLAY
DESCRIPTION:Reminder
END:VALARM
END:VEVENT
END:VCALENDAR