BEGIN:VCALENDAR
PRODID:-//Hudson McHughCalendar
VERSION:2.0
METHOD:PUBLISH
BEGIN:VEVENT
URL:http://hmch.com.au/565/54-annesley-street-leichhardt
ORGANIZER:info@hmch.com.au
DTSTART:20190227T173000
DTEND:20190227T180000
LOCATION:54 Annesley Street,  Leichhardt
DTSTAMP:20190227T075237
SUMMARY:Hudson McHugh Open House - 54 Annesley Street,  Leichhardt
DESCRIPTION:Open House: 54 Annesley Street,  Leichhardt 
Wednesday 05:30-06:00 PM
Click the link for full listing information:http://hmch.com.au/565/54-annesley-street-leichhardt
CLASS:PUBLIC
BEGIN:VALARM
TRIGGER:-PT1D
ACTION:DISPLAY
DESCRIPTION:Reminder
END:VALARM
END:VEVENT
END:VCALENDAR